Index of /checkResults/devel/bioc-LATEST/netOmics/raw-results/kjohnson3
Name
Last modified
Size
Description
Parent Directory
-
install-out.txt
27-Jul-2024 00:42
1.0K
install-summary.dcf
27-Jul-2024 00:42
270
buildsrc-out.txt
27-Jul-2024 00:42
1.0K
buildsrc-summary.dcf
27-Jul-2024 00:42
345