Index of /checkResults/devel/bioc-LATEST/nearBynding/raw-results
Name
Last modified
Size
Description
Parent Directory
-
merida1/
02-May-2024 00:40
-
info.dcf
03-May-2024 00:02
268
nebbiolo2/
03-May-2024 00:02
-
palomino4/
03-May-2024 00:04
-