Name | Last modified | Size | Description | |
---|---|---|---|---|
Parent Directory | - | |||
buildsrc-out.txt | 14-Jun-2024 01:18 | 922 | ||
buildsrc-summary.dcf | 14-Jun-2024 01:18 | 417 | ||
checksrc-out.txt | 14-Jun-2024 01:18 | 12K | ||
checksrc-summary.dcf | 14-Jun-2024 01:18 | 405 | ||
install-out.txt | 14-Jun-2024 01:18 | 938 | ||
install-summary.dcf | 14-Jun-2024 01:18 | 254 | ||