Index of /checkResults/devel/bioc-LATEST/nanotatoR/raw-results/palomino8
Name
Last modified
Size
Description
Parent Directory
-
buildsrc-out.txt
27-Jul-2024 00:40
941
buildsrc-summary.dcf
27-Jul-2024 00:40
373
install-out.txt
27-Jul-2024 00:40
627
install-summary.dcf
27-Jul-2024 00:40
274