Index of /checkResults/devel/bioc-LATEST/nanotatoR/raw-results/palomino6
Name
Last modified
Size
Description
Parent Directory
-
install-summary.dcf
17-Jul-2024 00:40
280
install-out.txt
17-Jul-2024 00:40
645
buildsrc-out.txt
17-Jul-2024 00:40
954
buildsrc-summary.dcf
17-Jul-2024 00:40
379