Index of /checkResults/devel/bioc-LATEST/nanotatoR/raw-results/palomino4
Name
Last modified
Size
Description
Parent Directory
-
buildsrc-out.txt
12-Jun-2024 04:40
941
buildsrc-summary.dcf
12-Jun-2024 04:40
373
install-out.txt
12-Jun-2024 04:40
627
install-summary.dcf
12-Jun-2024 04:40
274