Name | Last modified | Size | Description | |
---|---|---|---|---|
Parent Directory | - | |||
install-summary.dcf | 30-Apr-2024 00:38 | 274 | ||
install-out.txt | 30-Apr-2024 00:38 | 639 | ||
checksrc-summary.dcf | 17-Apr-2024 00:38 | 455 | ||
checksrc-out.txt | 17-Apr-2024 00:38 | 3.6K | ||
buildsrc-summary.dcf | 30-Apr-2024 00:38 | 373 | ||
buildsrc-out.txt | 30-Apr-2024 00:38 | 952 | ||
buildbin-summary.dcf | 17-Apr-2024 00:38 | 527 | ||
buildbin-out.txt | 17-Apr-2024 00:38 | 1.1K | ||