Index of /checkResults/devel/bioc-LATEST/nanotatoR/raw-results/palomino3

[ICO]NameLast modifiedSizeDescription

[DIR]Parent Directory  -  
[TXT]buildbin-out.txt01-Apr-2023 00:03 1.1K 
[   ]buildbin-summary.dcf01-Apr-2023 00:03 527  
[TXT]buildsrc-out.txt02-Apr-2023 00:05 849  
[   ]buildsrc-summary.dcf02-Apr-2023 00:05 460  
[TXT]checksrc-out.txt02-Apr-2023 00:05 3.5K 
[   ]checksrc-summary.dcf02-Apr-2023 00:05 455  
[TXT]install-out.txt02-Apr-2023 00:05 968  
[   ]install-summary.dcf02-Apr-2023 00:05 272