Index of /checkResults/devel/bioc-LATEST/nanotatoR/raw-results/nebbiolo2
Name
Last modified
Size
Description
Parent Directory
-
buildsrc-out.txt
27-Jul-2024 00:38
892
buildsrc-summary.dcf
27-Jul-2024 00:38
342
install-out.txt
27-Jul-2024 00:38
644
install-summary.dcf
27-Jul-2024 00:38
265