Index of /checkResults/devel/bioc-LATEST/nanotatoR/raw-results/merida1
Name
Last modified
Size
Description
Parent Directory
-
install-summary.dcf
07-May-2024 00:38
275
install-out.txt
07-May-2024 00:38
720
buildsrc-summary.dcf
07-May-2024 00:38
346
buildsrc-out.txt
07-May-2024 00:38
919