Index of /checkResults/devel/bioc-LATEST/nanotatoR/raw-results/kunpeng2
Name
Last modified
Size
Description
Parent Directory
-
install-summary.dcf
06-Jul-2024 00:44
253
buildsrc-summary.dcf
09-Jul-2024 00:45
324
install-out.txt
06-Jul-2024 00:44
620
buildsrc-out.txt
09-Jul-2024 00:45
890