![]() | Name | Last modified | Size | Description |
---|---|---|---|---|
![]() | Parent Directory | - | ||
![]() | buildsrc-out.txt | 29-Nov-2023 01:39 | 823 | |
![]() | buildsrc-summary.dcf | 29-Nov-2023 01:39 | 432 | |
![]() | checksrc-out.txt | 29-Nov-2023 01:39 | 3.6K | |
![]() | checksrc-summary.dcf | 29-Nov-2023 01:39 | 455 | |
![]() | install-out.txt | 29-Nov-2023 01:39 | 1.0K | |
![]() | install-summary.dcf | 29-Nov-2023 01:39 | 272 | |