Index of /checkResults/devel/bioc-LATEST/nanotatoR/raw-results/kjohnson1
Name
Last modified
Size
Description
Parent Directory
-
install-summary.dcf
12-Jun-2024 04:43
275
buildsrc-summary.dcf
12-Jun-2024 04:43
346
install-out.txt
12-Jun-2024 04:43
702
buildsrc-out.txt
12-Jun-2024 04:43
902