Back to Multiple platform build/check report for BioC 3.17
ABCDEFGHIJKLM[N]OPQRSTUVWXYZ

This page was generated on 2023-02-02 11:06:23 -0500 (Thu, 02 Feb 2023).

HostnameOSArch (*)R versionInstalled pkgs
nebbiolo1Linux (Ubuntu 22.04.1 LTS)x86_64R Under development (unstable) (2023-01-10 r83596) -- "Unsuffered Consequences" 4483
palomino3Windows Server 2022 Datacenterx64R Under development (unstable) (2023-01-10 r83596 ucrt) -- "Unsuffered Consequences" 4249
merida1macOS 10.14.6 Mojavex86_64R Under development (unstable) (2023-01-10 r83596) -- "Unsuffered Consequences" 4272
Click on any hostname to see more info about the system (e.g. compilers)      (*) as reported by 'uname -p', except on Windows and Mac OS X

CHECK results for nanotatoR on nebbiolo1


To the developers/maintainers of the nanotatoR package:
- Please allow up to 24 hours (and sometimes 48 hours) for your latest push to git@git.bioconductor.org:packages/nanotatoR.git to
reflect on this report. See How and When does the builder pull? When will my changes propagate? for more information.
- Make sure to use the following settings in order to reproduce any error or warning you see on this page.

raw results

Package 1314/2164HostnameOS / ArchINSTALLBUILDCHECKBUILD BIN
nanotatoR 1.15.0  (landing page)
Surajit Bhattacharya
Snapshot Date: 2023-02-01 14:00:21 -0500 (Wed, 01 Feb 2023)
git_url: https://git.bioconductor.org/packages/nanotatoR
git_branch: master
git_last_commit: 116b210
git_last_commit_date: 2022-11-01 11:19:50 -0500 (Tue, 01 Nov 2022)
nebbiolo1Linux (Ubuntu 22.04.1 LTS) / x86_64  OK    OK    OK  UNNEEDED, same version is already published
palomino3Windows Server 2022 Datacenter / x64  OK    OK    OK    OK  UNNEEDED, same version is already published
merida1macOS 10.14.6 Mojave / x86_64  OK    OK    OK    OK  UNNEEDED, same version is already published

Summary

Package: nanotatoR
Version: 1.15.0
Command: /home/biocbuild/bbs-3.17-bioc/R/bin/R CMD check --install=check:nanotatoR.install-out.txt --library=/home/biocbuild/bbs-3.17-bioc/R/library --timings nanotatoR_1.15.0.tar.gz
StartedAt: 2023-02-01 22:13:40 -0500 (Wed, 01 Feb 2023)
EndedAt: 2023-02-01 22:16:20 -0500 (Wed, 01 Feb 2023)
EllapsedTime: 160.2 seconds
RetCode: 0
Status:   OK  
CheckDir: nanotatoR.Rcheck
Warnings: 0

Command output

##############################################################################
##############################################################################
###
### Running command:
###
###   /home/biocbuild/bbs-3.17-bioc/R/bin/R CMD check --install=check:nanotatoR.install-out.txt --library=/home/biocbuild/bbs-3.17-bioc/R/library --timings nanotatoR_1.15.0.tar.gz
###
##############################################################################
##############################################################################


* using log directory ‘/home/biocbuild/bbs-3.17-bioc/meat/nanotatoR.Rcheck’
* using R Under development (unstable) (2023-01-10 r83596)
* using platform: x86_64-pc-linux-gnu (64-bit)
* R was compiled by
    gcc (Ubuntu 11.3.0-1ubuntu1~22.04) 11.3.0
    GNU Fortran (Ubuntu 11.3.0-1ubuntu1~22.04) 11.3.0
* running under: Ubuntu 22.04.1 LTS
* using session charset: UTF-8
* checking for file ‘nanotatoR/DESCRIPTION’ ... OK
* this is package ‘nanotatoR’ version ‘1.15.0’
* package encoding: UTF-8
* checking package namespace information ... OK
* checking package dependencies ... OK
* checking if this is a source package ... OK
* checking if there is a namespace ... OK
* checking for hidden files and directories ... NOTE
Found the following hidden files and directories:
  .travis.yml
These were most likely included in error. See section ‘Package
structure’ in the ‘Writing R Extensions’ manual.
* checking for portable file names ... OK
* checking for sufficient/correct file permissions ... OK
* checking whether package ‘nanotatoR’ can be installed ... OK
* checking installed package size ... OK
* checking package directory ... OK
* checking ‘build’ directory ... OK
* checking DESCRIPTION meta-information ... OK
* checking top-level files ... OK
* checking for left-over files ... OK
* checking index information ... OK
* checking package subdirectories ... OK
* checking R files for non-ASCII characters ... OK
* checking R files for syntax errors ... OK
* checking whether the package can be loaded ... OK
* checking whether the package can be loaded with stated dependencies ... OK
* checking whether the package can be unloaded cleanly ... OK
* checking whether the namespace can be loaded with stated dependencies ... OK
* checking whether the namespace can be unloaded cleanly ... OK
* checking dependencies in R code ... NOTE
Namespace in Imports field not imported from: ‘GenomicRanges’
  All declared Imports should be used.
* checking S3 generic/method consistency ... OK
* checking replacement functions ... OK
* checking foreign function calls ... OK
* checking R code for possible problems ... OK
* checking Rd files ... OK
* checking Rd metadata ... OK
* checking Rd cross-references ... OK
* checking for missing documentation entries ... OK
* checking for code/documentation mismatches ... OK
* checking Rd \usage sections ... OK
* checking Rd contents ... OK
* checking for unstated dependencies in examples ... OK
* checking files in ‘vignettes’ ... OK
* checking examples ... OK
* checking for unstated dependencies in ‘tests’ ... OK
* checking tests ...
  Running ‘testthat.R’
 OK
* checking for unstated dependencies in vignettes ... OK
* checking package vignettes in ‘inst/doc’ ... OK
* checking running R code from vignettes ...
  ‘nanotatoR.Rmd’ using ‘UTF-8’... OK
 NONE
* checking re-building of vignette outputs ... OK
* checking PDF version of manual ... OK
* DONE

Status: 2 NOTEs
See
  ‘/home/biocbuild/bbs-3.17-bioc/meat/nanotatoR.Rcheck/00check.log’
for details.



Installation output

nanotatoR.Rcheck/00install.out

##############################################################################
##############################################################################
###
### Running command:
###
###   /home/biocbuild/bbs-3.17-bioc/R/bin/R CMD INSTALL nanotatoR
###
##############################################################################
##############################################################################


* installing to library ‘/home/biocbuild/bbs-3.17-bioc/R/library’
* installing *source* package ‘nanotatoR’ ...
** using staged installation
** R
** inst
** byte-compile and prepare package for lazy loading
** help
*** installing help indices
** building package indices
** installing vignettes
** testing if installed package can be loaded from temporary location
** testing if installed package can be loaded from final location
** testing if installed package keeps a record of temporary installation path
* DONE (nanotatoR)

Tests output

nanotatoR.Rcheck/tests/testthat.Rout


R Under development (unstable) (2023-01-10 r83596) -- "Unsuffered Consequences"
Copyright (C) 2023 The R Foundation for Statistical Computing
Platform: x86_64-pc-linux-gnu (64-bit)

R is free software and comes with ABSOLUTELY NO WARRANTY.
You are welcome to redistribute it under certain conditions.
Type 'license()' or 'licence()' for distribution details.

R is a collaborative project with many contributors.
Type 'contributors()' for more information and
'citation()' on how to cite R or R packages in publications.

Type 'demo()' for some demos, 'help()' for on-line help, or
'help.start()' for an HTML browser interface to help.
Type 'q()' to quit R.

> library(testthat)
> library(nanotatoR)

> 
> test_check("nanotatoR")
[ FAIL 0 | WARN 0 | SKIP 0 | PASS 0 ]
> 
> proc.time()
   user  system elapsed 
  6.038   0.687   6.716 

Example timings

nanotatoR.Rcheck/nanotatoR-Ex.timings

nameusersystemelapsed
BNDBfrequency0.0570.0080.065
DGVfrequency0.0170.0000.017
Decipherfrequency0.0210.0000.021
FamilyInfoPrep0.0120.0000.012
OverlapRNAseq0.1430.0080.151
OverlapRNAseq_solo0.0930.0000.093
RNAseqcombine000
RNAseqcombine_solo0.0920.0000.092
SVexpression_duo_trio000
SVexpression_solo0.1420.0000.143
buildrunBNBedFiles0.0030.0000.003
clinvar_gene0.0320.0000.032
extract_clinvar_mod0.0180.0000.018
gene_extraction0.3930.0721.099
gene_list_generation0.3460.0121.309
gtr_gene0.0020.0000.002
internalFrequencyTrio_Duo0.1620.0120.175
internalFrequency_solo0.2980.0240.322
makeInternalBNDatabase0.0010.0000.001
mergingSMAP_SE0.0200.0000.022
mergingSMAP_SVMerge0.0080.0040.012
merging_SE_SVMerge0.0370.0000.037
nanotatoR0.0010.0000.001
nanotatoR_Duo_SVmerge0.0010.0000.000
nanotatoR_SVmerge_Trio0.0010.0000.000
nanotatoR_main_Duo_SE0.0000.0010.001
nanotatoR_main_Solo_SE0.5370.0550.592
nanotatoR_main_Solo_SVmerge0.0910.0120.104
nanotatoR_main_Trio_SE0.0560.0080.064
nonOverlapGenes0.0160.0000.016
nonOverlapRNAseq0.1410.0040.144
nonOverlapRNAseq_solo0.0960.0040.100
nonOverlappingDNGenes0.0160.0040.021
nonOverlappingUPGenes0.0200.0000.021
omim_gene0.0150.0000.454
overlapGenes0.0080.0040.013
overlapnearestgeneSearch0.0220.0040.026
overlappingGenes0.020.000.02
phenoextractHPO_mod0.0000.0040.005
readBNBedFiles0.0030.0000.003
readSMap0.0120.0040.016
readSMap_DLE0.0030.0120.015
reading_GTR0.0000.0030.002
reading_mim2gene0.0000.0040.004
run_bionano_filter_SE_Trio0.2660.0240.291
run_bionano_filter_SE_duo000
run_bionano_filter_SE_solo0.470.020.49
run_bionano_filter_SVMerge_Trio0.0000.0000.001
run_bionano_filter_SVMerge_duo0.0000.0000.001
run_bionano_filter_SVMerge_solo0.2500.0120.262