Name | Last modified | Size | Description | |
---|---|---|---|---|
Parent Directory | - | |||
buildbin-out.txt | 28-Jul-2024 00:40 | 1.1K | ||
buildbin-summary.dcf | 28-Jul-2024 00:40 | 521 | ||
buildsrc-out.txt | 28-Jul-2024 00:40 | 844 | ||
buildsrc-summary.dcf | 28-Jul-2024 00:40 | 457 | ||
checksrc-out.txt | 28-Jul-2024 00:40 | 3.6K | ||
checksrc-summary.dcf | 28-Jul-2024 00:40 | 451 | ||
install-out.txt | 28-Jul-2024 00:40 | 1.0K | ||
install-summary.dcf | 28-Jul-2024 00:40 | 270 | ||