Index of /checkResults/devel/bioc-LATEST/musicatk/raw-results/palomino6
Name
Last modified
Size
Description
Parent Directory
-
buildsrc-summary.dcf
17-Jul-2024 00:40
377
buildsrc-out.txt
17-Jul-2024 00:40
952
install-summary.dcf
17-Jul-2024 00:40
278
install-out.txt
17-Jul-2024 00:40
647