Name | Last modified | Size | Description | |
---|---|---|---|---|
Parent Directory | - | |||
install-summary.dcf | 28-Jul-2024 00:38 | 261 | ||
install-out.txt | 28-Jul-2024 00:38 | 1.0K | ||
checksrc-summary.dcf | 28-Jul-2024 00:38 | 418 | ||
checksrc-out.txt | 28-Jul-2024 00:38 | 3.5K | ||
buildsrc-summary.dcf | 28-Jul-2024 00:38 | 427 | ||
buildsrc-out.txt | 28-Jul-2024 00:38 | 834 | ||