Index of /checkResults/devel/bioc-LATEST/musicatk/raw-results/kunpeng2

[ICO]NameLast modifiedSizeDescription

[DIR]Parent Directory  -  
[TXT]checksrc-out.txt18-Feb-2024 16:30 3.7K 
[TXT]install-out.txt18-Feb-2024 16:30 1.0K 
[TXT]buildsrc-out.txt18-Feb-2024 16:30 822  
[   ]checksrc-summary.dcf18-Feb-2024 16:30 457  
[   ]buildsrc-summary.dcf18-Feb-2024 16:30 433  
[   ]install-summary.dcf18-Feb-2024 16:30 273