Back to Multiple platform build/check report for BioC 3.14
ABCDEFGHIJKL[M]NOPQRSTUVWXYZ

This page was generated on 2021-10-20 12:05:17 -0400 (Wed, 20 Oct 2021).

BUILD BIN results for muscat on riesling1

To the developers/maintainers of the muscat package:
- Please allow up to 24 hours (and sometimes 48 hours) for your latest push to git@git.bioconductor.org:packages/muscat.git to
reflect on this report. See How and When does the builder pull? When will my changes propagate? here for more information.
- Make sure to use the following settings in order to reproduce any error or warning you see on this page.

raw results

Package 1248/2072HostnameOS / ArchINSTALLBUILDCHECKBUILD BIN
muscat 1.7.2  (landing page)
Helena L. Crowell
Snapshot Date: 2021-10-19 14:50:04 -0400 (Tue, 19 Oct 2021)
git_url: https://git.bioconductor.org/packages/muscat
git_branch: master
git_last_commit: 5e20a1b
git_last_commit_date: 2021-08-19 05:56:21 -0400 (Thu, 19 Aug 2021)
nebbiolo2Linux (Ubuntu 20.04.2 LTS) / x86_64  OK    OK    OK  UNNEEDED, same version is already published
riesling1Windows Server 2019 Standard / x64  OK    OK    OK    OK  UNNEEDED, same version is already published
merida1macOS 10.14.6 Mojave / x86_64  OK    OK    OK    NA  

Summary

Package: muscat
Version: 1.7.2
Command: rm -rf muscat.buildbin-libdir && mkdir muscat.buildbin-libdir && D:\biocbuild\bbs-3.14-bioc\R\bin\R.exe CMD INSTALL --merge-multiarch --build --library=muscat.buildbin-libdir muscat_1.7.2.tar.gz
StartedAt: 2021-10-20 07:08:29 -0400 (Wed, 20 Oct 2021)
EndedAt: 2021-10-20 07:12:47 -0400 (Wed, 20 Oct 2021)
EllapsedTime: 258.3 seconds
RetCode: 0
Status:   OK  
PackageFile: muscat_1.7.2.zip
PackageFileSize: 4.468 MiB

Command output

##############################################################################
##############################################################################
###
### Running command:
###
###   rm -rf muscat.buildbin-libdir && mkdir muscat.buildbin-libdir && D:\biocbuild\bbs-3.14-bioc\R\bin\R.exe CMD INSTALL --merge-multiarch --build --library=muscat.buildbin-libdir muscat_1.7.2.tar.gz
###
##############################################################################
##############################################################################



install for i386

* installing *source* package 'muscat' ...
** using staged installation
** R
** data
** inst
** byte-compile and prepare package for lazy loading
Warning in checkDepPackageVersion(dep_pkg = "TMB") :
  Package version inconsistency detected.
glmmTMB was built with TMB version 1.7.21
Current TMB version is 1.7.22
Please re-install glmmTMB from source or restore original 'TMB' package (see '?reinstalling' for more information)
** help
*** installing help indices
  converting help for package 'muscat'
    finding HTML links ... done
    aggregateData                           html  
    calcExprFreqs                           html  
    data                                    html  
    mmDS                                    html  
    pbDS                                    html  
    pbFlatten                               html  
    pbHeatmap                               html  
    finding level-2 HTML links ... done

    pbMDS                                   html  
    prepSCE                                 html  
    prepSim                                 html  
    resDS                                   html  
    simData                                 html  
** building package indices
** installing vignettes
** testing if installed package can be loaded from temporary location
Warning in checkDepPackageVersion(dep_pkg = "TMB") :
  Package version inconsistency detected.
glmmTMB was built with TMB version 1.7.21
Current TMB version is 1.7.22
Please re-install glmmTMB from source or restore original 'TMB' package (see '?reinstalling' for more information)
** testing if installed package can be loaded from final location
Warning in checkDepPackageVersion(dep_pkg = "TMB") :
  Package version inconsistency detected.
glmmTMB was built with TMB version 1.7.21
Current TMB version is 1.7.22
Please re-install glmmTMB from source or restore original 'TMB' package (see '?reinstalling' for more information)
** testing if installed package keeps a record of temporary installation path

install for x64

* installing *source* package 'muscat' ...
** testing if installed package can be loaded
Warning in checkDepPackageVersion(dep_pkg = "TMB") :
  Package version inconsistency detected.
glmmTMB was built with TMB version 1.7.21
Current TMB version is 1.7.22
Please re-install glmmTMB from source or restore original 'TMB' package (see '?reinstalling' for more information)
* MD5 sums
packaged installation of 'muscat' as muscat_1.7.2.zip
* DONE (muscat)