Back to Multiple platform build/check report for BioC 3.14
ABCDEFGHIJKL[M]NOPQRSTUVWXYZ

This page was generated on 2021-10-23 14:06:35 -0400 (Sat, 23 Oct 2021).

BUILD BIN results for mumosa on riesling1

To the developers/maintainers of the mumosa package:
- Please allow up to 24 hours (and sometimes 48 hours) for your latest push to git@git.bioconductor.org:packages/mumosa.git to
reflect on this report. See How and When does the builder pull? When will my changes propagate? here for more information.
- Make sure to use the following settings in order to reproduce any error or warning you see on this page.

raw results

Package 1251/2083HostnameOS / ArchINSTALLBUILDCHECKBUILD BIN
mumosa 1.1.0  (landing page)
Aaron Lun
Snapshot Date: 2021-10-22 14:50:11 -0400 (Fri, 22 Oct 2021)
git_url: https://git.bioconductor.org/packages/mumosa
git_branch: master
git_last_commit: ad2fc31
git_last_commit_date: 2021-05-19 12:58:39 -0400 (Wed, 19 May 2021)
nebbiolo2Linux (Ubuntu 20.04.2 LTS) / x86_64  OK    OK    OK  UNNEEDED, same version is already published
riesling1Windows Server 2019 Standard / x64  OK    OK    OK    OK  UNNEEDED, same version is already published
merida1macOS 10.14.6 Mojave / x86_64  OK    OK    OK    OK  UNNEEDED, same version is already published

Summary

Package: mumosa
Version: 1.1.0
Command: rm -rf mumosa.buildbin-libdir && mkdir mumosa.buildbin-libdir && D:\biocbuild\bbs-3.14-bioc\R\bin\R.exe CMD INSTALL --merge-multiarch --build --library=mumosa.buildbin-libdir mumosa_1.1.0.tar.gz
StartedAt: 2021-10-23 11:51:35 -0400 (Sat, 23 Oct 2021)
EndedAt: 2021-10-23 11:55:47 -0400 (Sat, 23 Oct 2021)
EllapsedTime: 252.4 seconds
RetCode: 0
Status:   OK  
PackageFile: mumosa_1.1.0.zip
PackageFileSize: 503.6 KiB

Command output

##############################################################################
##############################################################################
###
### Running command:
###
###   rm -rf mumosa.buildbin-libdir && mkdir mumosa.buildbin-libdir && D:\biocbuild\bbs-3.14-bioc\R\bin\R.exe CMD INSTALL --merge-multiarch --build --library=mumosa.buildbin-libdir mumosa_1.1.0.tar.gz
###
##############################################################################
##############################################################################



install for i386

* installing *source* package 'mumosa' ...
** using staged installation
** R
** inst
** byte-compile and prepare package for lazy loading
** help
*** installing help indices
  converting help for package 'mumosa'
    finding HTML links ... done
    computeCorrelations                     html  
    finding level-2 HTML links ... done

    findTopCorrelations                     html  
    intersectClusters                       html  
    intersectGraphs                         html  
    multiModalMNN                           html  
    rescaleByNeighbors                      html  
    runMultiUMAP                            html  
** building package indices
** installing vignettes
** testing if installed package can be loaded from temporary location
** testing if installed package can be loaded from final location
** testing if installed package keeps a record of temporary installation path

install for x64

* installing *source* package 'mumosa' ...
** testing if installed package can be loaded
* MD5 sums
packaged installation of 'mumosa' as mumosa_1.1.0.zip
* DONE (mumosa)