Index of /checkResults/devel/bioc-LATEST/mumosa/raw-results/palomino3

[ICO]NameLast modifiedSizeDescription

[DIR]Parent Directory  -  
[TXT]buildbin-out.txt18-Feb-2024 16:27 1.1K 
[   ]buildbin-summary.dcf18-Feb-2024 16:27 509  
[TXT]buildsrc-out.txt18-Feb-2024 16:27 834  
[   ]buildsrc-summary.dcf18-Feb-2024 16:27 447  
[TXT]checksrc-out.txt18-Feb-2024 16:27 3.3K 
[   ]checksrc-summary.dcf18-Feb-2024 16:27 443  
[TXT]install-out.txt18-Feb-2024 16:27 950  
[   ]install-summary.dcf18-Feb-2024 16:27 266