Index of /checkResults/devel/bioc-LATEST/mumosa/raw-results/nebbiolo1

[ICO]NameLast modifiedSizeDescription

[DIR]Parent Directory  -  
[TXT]buildsrc-out.txt05-Feb-2023 01:05 801  
[   ]buildsrc-summary.dcf05-Feb-2023 01:05 413  
[TXT]checksrc-out.txt05-Feb-2023 01:05 3.4K 
[   ]checksrc-summary.dcf05-Feb-2023 01:05 403  
[TXT]install-out.txt05-Feb-2023 01:05 936  
[   ]install-summary.dcf05-Feb-2023 01:05 256