Index of /checkResults/devel/bioc-LATEST/mumosa/raw-results

[ICO]NameLast modifiedSizeDescription

[DIR]Parent Directory  -  
[DIR]merida1/29-Jan-2023 01:09 -  
[DIR]nebbiolo1/29-Jan-2023 01:05 -  
[DIR]palomino3/29-Jan-2023 01:07 -  
[   ]info.dcf29-Jan-2023 01:09 280