Index of /checkResults/devel/bioc-LATEST/multtest/raw-results/palomino4

[ICO]NameLast modifiedSizeDescription

[DIR]Parent Directory  -  
[   ]install-summary.dcf07-Aug-2022 00:06 637  
[TXT]install-out.txt07-Aug-2022 00:06 5.0K 
[   ]checksrc-summary.dcf07-Aug-2022 00:06 459  
[TXT]checksrc-out.txt07-Aug-2022 00:06 5.3K 
[   ]buildsrc-summary.dcf07-Aug-2022 00:06 455  
[TXT]buildsrc-out.txt07-Aug-2022 00:06 846  
[   ]buildbin-summary.dcf06-Aug-2022 00:06 539  
[TXT]buildbin-out.txt06-Aug-2022 00:06 4.3K