![]() | Name | Last modified | Size | Description |
---|---|---|---|---|
![]() | Parent Directory | - | ||
![]() | buildsrc-out.txt | 01-Jul-2022 00:05 | 816 | |
![]() | buildsrc-summary.dcf | 01-Jul-2022 00:05 | 419 | |
![]() | checksrc-out.txt | 01-Jul-2022 00:05 | 6.0K | |
![]() | checksrc-summary.dcf | 01-Jul-2022 00:05 | 433 | |
![]() | install-out.txt | 01-Jul-2022 00:05 | 4.0K | |
![]() | install-summary.dcf | 01-Jul-2022 00:05 | 261 | |