Name | Last modified | Size | Description | |
---|---|---|---|---|
Parent Directory | - | |||
buildsrc-out.txt | 29-Mar-2024 00:36 | 816 | ||
buildsrc-summary.dcf | 29-Mar-2024 00:36 | 419 | ||
checksrc-out.txt | 29-Mar-2024 00:36 | 7.7K | ||
checksrc-summary.dcf | 29-Mar-2024 00:36 | 423 | ||
install-out.txt | 29-Mar-2024 00:36 | 4.1K | ||
install-summary.dcf | 29-Mar-2024 00:36 | 261 | ||