Name | Last modified | Size | Description | |
---|---|---|---|---|
Parent Directory | - | |||
checksrc-out.txt | 12-Jun-2024 04:42 | 7.5K | ||
buildbin-out.txt | 12-Jun-2024 04:42 | 6.3K | ||
install-out.txt | 12-Jun-2024 04:42 | 4.4K | ||
buildsrc-out.txt | 12-Jun-2024 04:42 | 826 | ||
buildbin-summary.dcf | 12-Jun-2024 04:42 | 536 | ||
checksrc-summary.dcf | 12-Jun-2024 04:42 | 454 | ||
buildsrc-summary.dcf | 12-Jun-2024 04:42 | 429 | ||
install-summary.dcf | 12-Jun-2024 04:42 | 271 | ||