Name | Last modified | Size | Description | |
---|---|---|---|---|
Parent Directory | - | |||
install-summary.dcf | 27-Jul-2024 00:41 | 271 | ||
install-out.txt | 27-Jul-2024 00:41 | 4.4K | ||
checksrc-summary.dcf | 27-Jul-2024 00:41 | 453 | ||
checksrc-out.txt | 27-Jul-2024 00:41 | 7.4K | ||
buildsrc-summary.dcf | 27-Jul-2024 00:41 | 429 | ||
buildsrc-out.txt | 27-Jul-2024 00:41 | 826 | ||
buildbin-summary.dcf | 27-Jul-2024 00:41 | 536 | ||
buildbin-out.txt | 27-Jul-2024 00:41 | 6.3K | ||