Index of /checkResults/devel/bioc-LATEST/multtest/raw-results/lconway

[ICO]NameLast modifiedSizeDescription

[DIR]Parent Directory  -  
[TXT]buildbin-out.txt19-Jul-2024 00:41 6.3K 
[   ]buildbin-summary.dcf19-Jul-2024 00:41 536  
[TXT]buildsrc-out.txt19-Jul-2024 00:41 826  
[   ]buildsrc-summary.dcf19-Jul-2024 00:41 429  
[TXT]checksrc-out.txt19-Jul-2024 00:41 7.4K 
[   ]checksrc-summary.dcf19-Jul-2024 00:41 453  
[TXT]install-out.txt19-Jul-2024 00:41 4.4K 
[   ]install-summary.dcf19-Jul-2024 00:41 271