Name | Last modified | Size | Description | |
---|---|---|---|---|
Parent Directory | - | |||
buildsrc-out.txt | 09-Jul-2024 00:45 | 804 | ||
buildsrc-summary.dcf | 09-Jul-2024 00:45 | 407 | ||
checksrc-out.txt | 09-Jul-2024 00:45 | 7.0K | ||
checksrc-summary.dcf | 09-Jul-2024 00:45 | 414 | ||
install-out.txt | 07-Jul-2024 00:44 | 3.0K | ||
install-summary.dcf | 07-Jul-2024 00:44 | 249 | ||