Index of /checkResults/devel/bioc-LATEST/multtest/raw-results/kjohnson3

[ICO]NameLast modifiedSizeDescription

[DIR]Parent Directory  -  
[TXT]buildbin-out.txt09-Jul-2024 00:44 6.4K 
[   ]buildbin-summary.dcf09-Jul-2024 00:44 533  
[TXT]buildsrc-out.txt09-Jul-2024 00:44 826  
[   ]buildsrc-summary.dcf09-Jul-2024 00:44 429  
[TXT]checksrc-out.txt09-Jul-2024 00:44 7.4K 
[   ]checksrc-summary.dcf09-Jul-2024 00:44 453  
[TXT]install-out.txt09-Jul-2024 00:44 4.5K 
[   ]install-summary.dcf09-Jul-2024 00:44 270