Index of /checkResults/devel/bioc-LATEST/multtest/raw-results

[ICO]NameLast modifiedSizeDescription

[DIR]Parent Directory  -  
[DIR]palomino4/12-Jun-2024 04:40 -  
[DIR]merida1/12-Jun-2024 04:42 -  
[DIR]kjohnson1/12-Jun-2024 04:43 -  
[DIR]kunpeng2/09-Jul-2024 00:45 -  
[   ]info.dcf13-Jul-2024 01:29 290  
[DIR]nebbiolo2/13-Jul-2024 01:30 -  
[DIR]palomino6/13-Jul-2024 01:31 -  
[DIR]lconway/13-Jul-2024 01:33 -  
[DIR]kjohnson3/13-Jul-2024 01:34 -  
[DIR]palomino8/13-Jul-2024 01:36 -