Back to Multiple platform build/check report for BioC 3.19:   simplified   long
ABCDEFGHIJKL[M]NOPQRSTUVWXYZ

This page was generated on 2024-03-28 11:36:47 -0400 (Thu, 28 Mar 2024).

HostnameOSArch (*)R versionInstalled pkgs
nebbiolo1Linux (Ubuntu 22.04.3 LTS)x86_64R Under development (unstable) (2024-03-18 r86148) -- "Unsuffered Consequences" 4708
palomino3Windows Server 2022 Datacenterx64R Under development (unstable) (2024-03-16 r86144 ucrt) -- "Unsuffered Consequences" 4446
lconwaymacOS 12.7.1 Montereyx86_64R Under development (unstable) (2024-03-18 r86148) -- "Unsuffered Consequences" 4471
kunpeng2Linux (openEuler 22.03 LTS-SP1)aarch64R Under development (unstable) (2024-03-19 r86153) -- "Unsuffered Consequences" 4426
Click on any hostname to see more info about the system (e.g. compilers)      (*) as reported by 'uname -p', except on Windows and Mac OS X

Package 1367/2270HostnameOS / ArchINSTALLBUILDCHECKBUILD BIN
multiWGCNA 1.1.3  (landing page)
Dario Tommasini
Snapshot Date: 2024-03-27 14:00:18 -0400 (Wed, 27 Mar 2024)
git_url: https://git.bioconductor.org/packages/multiWGCNA
git_branch: devel
git_last_commit: 9352a6f
git_last_commit_date: 2024-01-24 23:01:10 -0400 (Wed, 24 Jan 2024)
nebbiolo1Linux (Ubuntu 22.04.3 LTS) / x86_64  OK    OK    OK  UNNEEDED, same version is already published
palomino3Windows Server 2022 Datacenter / x64  OK    OK    OK    OK  UNNEEDED, same version is already published
lconwaymacOS 12.7.1 Monterey / x86_64  OK    OK    OK    OK  UNNEEDED, same version is already published
kunpeng2Linux (openEuler 22.03 LTS-SP1) / aarch64  OK    OK    OK  

CHECK results for multiWGCNA on nebbiolo1


To the developers/maintainers of the multiWGCNA package:
- Allow up to 24 hours (and sometimes 48 hours) for your latest push to git@git.bioconductor.org:packages/multiWGCNA.git to reflect on this report. See Troubleshooting Build Report for more information.
- Use the following Renviron settings to reproduce errors and warnings.
- If 'R CMD check' started to fail recently on the Linux builder(s) over a missing dependency, add the missing dependency to 'Suggests:' in your DESCRIPTION file. See Renviron.bioc for more information.

raw results


Summary

Package: multiWGCNA
Version: 1.1.3
Command: /home/biocbuild/bbs-3.19-bioc/R/bin/R CMD check --install=check:multiWGCNA.install-out.txt --library=/home/biocbuild/bbs-3.19-bioc/R/site-library --timings multiWGCNA_1.1.3.tar.gz
StartedAt: 2024-03-28 00:39:34 -0400 (Thu, 28 Mar 2024)
EndedAt: 2024-03-28 00:53:13 -0400 (Thu, 28 Mar 2024)
EllapsedTime: 818.3 seconds
RetCode: 0
Status:   OK  
CheckDir: multiWGCNA.Rcheck
Warnings: 0

Command output

##############################################################################
##############################################################################
###
### Running command:
###
###   /home/biocbuild/bbs-3.19-bioc/R/bin/R CMD check --install=check:multiWGCNA.install-out.txt --library=/home/biocbuild/bbs-3.19-bioc/R/site-library --timings multiWGCNA_1.1.3.tar.gz
###
##############################################################################
##############################################################################


* using log directory ‘/home/biocbuild/bbs-3.19-bioc/meat/multiWGCNA.Rcheck’
* using R Under development (unstable) (2024-03-18 r86148)
* using platform: x86_64-pc-linux-gnu
* R was compiled by
    gcc (Ubuntu 11.4.0-1ubuntu1~22.04) 11.4.0
    GNU Fortran (Ubuntu 11.4.0-1ubuntu1~22.04) 11.4.0
* running under: Ubuntu 22.04.4 LTS
* using session charset: UTF-8
* checking for file ‘multiWGCNA/DESCRIPTION’ ... OK
* checking extension type ... Package
* this is package ‘multiWGCNA’ version ‘1.1.3’
* package encoding: UTF-8
* checking package namespace information ... OK
* checking package dependencies ... OK
* checking if this is a source package ... OK
* checking if there is a namespace ... OK
* checking for hidden files and directories ... OK
* checking for portable file names ... OK
* checking for sufficient/correct file permissions ... OK
* checking whether package ‘multiWGCNA’ can be installed ... OK
* checking installed package size ... OK
* checking package directory ... OK
* checking ‘build’ directory ... OK
* checking DESCRIPTION meta-information ... OK
* checking top-level files ... OK
* checking for left-over files ... OK
* checking index information ... OK
* checking package subdirectories ... OK
* checking code files for non-ASCII characters ... OK
* checking R files for syntax errors ... OK
* checking whether the package can be loaded ... OK
* checking whether the package can be loaded with stated dependencies ... OK
* checking whether the package can be unloaded cleanly ... OK
* checking whether the namespace can be loaded with stated dependencies ... OK
* checking whether the namespace can be unloaded cleanly ... OK
* checking loading without being on the library search path ... OK
* checking dependencies in R code ... OK
* checking S3 generic/method consistency ... OK
* checking replacement functions ... OK
* checking foreign function calls ... OK
* checking R code for possible problems ... NOTE
bidirectionalBestMatches: no visible binding for global variable ‘mod1’
bidirectionalBestMatches: no visible binding for global variable ‘mod2’
bidirectionalBestMatches: no visible binding for global variable
  ‘overlap’
coexpressionLineGraph: no visible binding for global variable ‘Var1’
coexpressionLineGraph: no visible binding for global variable ‘value’
coexpressionLineGraph: no visible binding for global variable ‘Var2’
computeOverlapsFromWGCNA: no visible binding for global variable ‘mod1’
computeOverlapsFromWGCNA: no visible binding for global variable ‘mod2’
continuousFlowPlot: no visible global function definition for ‘ulist’
continuousFlowPlot: no visible binding for global variable
  ‘uniqueSortedData’
continuousFlowPlot: no visible binding for global variable ‘stratum’
continuousFlowPlot: no visible global function definition for ‘error’
correlationComparisonBoxplot: no visible binding for global variable
  ‘Status’
correlationComparisonBoxplot: no visible binding for global variable
  ‘Correlation’
correlationComparisonHeatmaps: no visible binding for global variable
  ‘Var1’
correlationComparisonHeatmaps: no visible binding for global variable
  ‘Var2’
correlationComparisonHeatmaps: no visible binding for global variable
  ‘value’
diffCoexpression: no visible binding for global variable
  ‘layout_with_fr’
diffCoexpression: no visible binding for global variable ‘p.adj’
diffModuleExpression: no visible binding for global variable ‘Sample’
drawNetwork: no visible binding for global variable ‘layout_with_fr’
expressionHeatmap: no visible binding for global variable ‘Sample’
expressionHeatmap: no visible binding for global variable ‘Gene’
expressionHeatmap: no visible binding for global variable ‘Zscore’
findOutlierModules: no visible global function definition for
  ‘zScoreMatrix’
getPreservation: no visible binding for global variable ‘name2’
moduleComparisonPlot: no visible binding for global variable ‘overlap’
moduleComparisonPlot: no visible binding for global variable ‘mod1’
moduleComparisonPlot: no visible binding for global variable ‘mod2’
moduleComparisonPlot: no visible binding for global variable ‘p.adj’
moduleComparisonPlot: no visible binding for global variable ‘stratum’
moduleExpressionPlot: no visible binding for global variable ‘Sample’
moduleExpressionPlot: no visible binding for global variable
  ‘Expression’
moduleToModuleHeatmap: no visible binding for global variable ‘mod1’
moduleToModuleHeatmap: no visible binding for global variable ‘mod2’
moduleToModuleHeatmap: no visible binding for global variable ‘p.adj’
moduleToModuleHeatmap: no visible binding for global variable ‘overlap’
preservationComparisonPlot: no visible binding for global variable
  ‘log10Pvalue’
preservationComparisonPlot: no visible binding for global variable
  ‘Zsum’
preservationComparisonPlot: no visible binding for global variable
  ‘trait’
preservationComparisonPlot: no visible binding for global variable
  ‘Module’
topNGenes: no visible binding for global variable ‘kWithin’
Undefined global functions or variables:
  Correlation Expression Gene Module Sample Status Var1 Var2 Zscore
  Zsum error kWithin layout_with_fr log10Pvalue mod1 mod2 name2 overlap
  p.adj stratum trait ulist uniqueSortedData value zScoreMatrix
* checking Rd files ... OK
* checking Rd metadata ... OK
* checking Rd cross-references ... OK
* checking for missing documentation entries ... OK
* checking for code/documentation mismatches ... OK
* checking Rd \usage sections ... OK
* checking Rd contents ... OK
* checking for unstated dependencies in examples ... OK
* checking contents of ‘data’ directory ... OK
* checking data for non-ASCII characters ... OK
* checking LazyData ... OK
* checking data for ASCII and uncompressed saves ... OK
* checking files in ‘vignettes’ ... OK
* checking examples ... OK
Examples with CPU (user + system) or elapsed time > 5s
                             user system elapsed
preservationComparisonPlot 67.125  3.565  71.023
preservationComparisons    65.045  3.363  68.712
constructNetworks          39.536  1.496  41.296
moduleComparisonPlot       16.834  1.327  18.460
GetDatExpr                 16.597  1.429  19.042
runDME                      9.870  0.979  11.323
iterate                     8.371  2.444  11.045
overlapComparisons          8.193  0.854   9.310
drawMultiWGCNAnetwork       8.363  0.484   9.211
diffModuleExpression        5.530  0.592   6.460
* checking for unstated dependencies in ‘tests’ ... OK
* checking tests ...
  Running ‘testthat.R’
 OK
* checking for unstated dependencies in vignettes ... OK
* checking package vignettes ... OK
* checking re-building of vignette outputs ... OK
* checking PDF version of manual ... OK
* DONE

Status: 1 NOTE
See
  ‘/home/biocbuild/bbs-3.19-bioc/meat/multiWGCNA.Rcheck/00check.log’
for details.


Installation output

multiWGCNA.Rcheck/00install.out

##############################################################################
##############################################################################
###
### Running command:
###
###   /home/biocbuild/bbs-3.19-bioc/R/bin/R CMD INSTALL multiWGCNA
###
##############################################################################
##############################################################################


* installing to library ‘/home/biocbuild/bbs-3.19-bioc/R/site-library’
* installing *source* package ‘multiWGCNA’ ...
** using staged installation
** R
** data
*** moving datasets to lazyload DB
** inst
** byte-compile and prepare package for lazy loading
** help
*** installing help indices
** building package indices
** installing vignettes
** testing if installed package can be loaded from temporary location
** testing if installed package can be loaded from final location
** testing if installed package keeps a record of temporary installation path
* DONE (multiWGCNA)

Tests output

multiWGCNA.Rcheck/tests/testthat.Rout


R Under development (unstable) (2024-03-18 r86148) -- "Unsuffered Consequences"
Copyright (C) 2024 The R Foundation for Statistical Computing
Platform: x86_64-pc-linux-gnu

R is free software and comes with ABSOLUTELY NO WARRANTY.
You are welcome to redistribute it under certain conditions.
Type 'license()' or 'licence()' for distribution details.

R is a collaborative project with many contributors.
Type 'contributors()' for more information and
'citation()' on how to cite R or R packages in publications.

Type 'demo()' for some demos, 'help()' for on-line help, or
'help.start()' for an HTML browser interface to help.
Type 'q()' to quit R.

> # This file is part of the standard setup for testthat.
> # It is recommended that you do not modify it.
> #
> # Where should you do additional test configuration?
> # Learn more about the roles of various files in:
> # * https://r-pkgs.org/tests.html
> # * https://testthat.r-lib.org/reference/test_package.html#special-files
> 
> library(testthat)
> library(multiWGCNA)
Loading required package: ggalluvial
Loading required package: ggplot2

> 
> test_check("multiWGCNA")
Loading required package: BiocGenerics

Attaching package: 'BiocGenerics'

The following objects are masked from 'package:stats':

    IQR, mad, sd, var, xtabs

The following objects are masked from 'package:base':

    Filter, Find, Map, Position, Reduce, anyDuplicated, aperm, append,
    as.data.frame, basename, cbind, colnames, dirname, do.call,
    duplicated, eval, evalq, get, grep, grepl, intersect, is.unsorted,
    lapply, mapply, match, mget, order, paste, pmax, pmax.int, pmin,
    pmin.int, rank, rbind, rownames, sapply, setdiff, table, tapply,
    union, unique, unsplit, which.max, which.min

Loading required package: AnnotationHub
Loading required package: BiocFileCache
Loading required package: dbplyr
see ?multiWGCNAdata and browseVignettes('multiWGCNAdata') for documentation
loading from cache
require("SummarizedExperiment")
 Flagging genes and samples with too many missing values...
  ..step 1
 Calculating module eigengenes block-wise from all genes
   Flagging genes and samples with too many missing values...
    ..step 1
 ..Working on block 1 .
    TOM calculation: adjacency..
    ..will not use multithreading.
     Fraction of slow calculations: 0.000000
    ..connectivity..
    ..matrix multiplication (system BLAS)..
    ..normalization..
    ..done.
 ....clustering..
 ....detecting modules..
 ....calculating module eigengenes..
 ....checking kME in modules..
     ..removing 163 genes from module 1 because their KME is too low.
     ..removing 126 genes from module 2 because their KME is too low.
     ..removing 59 genes from module 3 because their KME is too low.
     ..removing 18 genes from module 4 because their KME is too low.
     ..removing 28 genes from module 5 because their KME is too low.
     ..removing 24 genes from module 6 because their KME is too low.
     ..removing 9 genes from module 7 because their KME is too low.
 ..merging modules that are too close..
     mergeCloseModules: Merging modules whose distance is less than 0.1
       Calculating new MEs...
 softConnectivity: FYI: connecitivty of genes with less than 20 valid samples will be returned as NA.
 ..calculating connectivities.. 
 Flagging genes and samples with too many missing values...
  ..step 1
 Calculating module eigengenes block-wise from all genes
   Flagging genes and samples with too many missing values...
    ..step 1
 ..Working on block 1 .
    TOM calculation: adjacency..
    ..will not use multithreading.
     Fraction of slow calculations: 0.000000
    ..connectivity..
    ..matrix multiplication (system BLAS)..
    ..normalization..
    ..done.
 ....clustering..
 ....detecting modules..
 ....calculating module eigengenes..
 ....checking kME in modules..
     ..removing 139 genes from module 1 because their KME is too low.
     ..removing 82 genes from module 2 because their KME is too low.
     ..removing 95 genes from module 3 because their KME is too low.
     ..removing 37 genes from module 4 because their KME is too low.
     ..removing 35 genes from module 5 because their KME is too low.
     ..removing 36 genes from module 6 because their KME is too low.
     ..removing 27 genes from module 7 because their KME is too low.
 ..merging modules that are too close..
     mergeCloseModules: Merging modules whose distance is less than 0.1
       Calculating new MEs...
 softConnectivity: FYI: connecitivty of genes with less than 10 valid samples will be returned as NA.
 ..calculating connectivities.. 
 Flagging genes and samples with too many missing values...
  ..step 1
 Calculating module eigengenes block-wise from all genes
   Flagging genes and samples with too many missing values...
    ..step 1
 ..Working on block 1 .
    TOM calculation: adjacency..
    ..will not use multithreading.
     Fraction of slow calculations: 0.000000
    ..connectivity..
    ..matrix multiplication (system BLAS)..
    ..normalization..
    ..done.
 ....clustering..
 ....detecting modules..
 ....calculating module eigengenes..
 ....checking kME in modules..
     ..removing 164 genes from module 1 because their KME is too low.
     ..removing 138 genes from module 2 because their KME is too low.
     ..removing 86 genes from module 3 because their KME is too low.
     ..removing 33 genes from module 4 because their KME is too low.
     ..removing 35 genes from module 5 because their KME is too low.
     ..removing 34 genes from module 6 because their KME is too low.
     ..removing 19 genes from module 7 because their KME is too low.
 ..merging modules that are too close..
     mergeCloseModules: Merging modules whose distance is less than 0.1
       Calculating new MEs...
 softConnectivity: FYI: connecitivty of genes with less than 11 valid samples will be returned as NA.
 ..calculating connectivities.. 
 Flagging genes and samples with too many missing values...
  ..step 1
 Calculating module eigengenes block-wise from all genes
   Flagging genes and samples with too many missing values...
    ..step 1
 ..Working on block 1 .
    TOM calculation: adjacency..
    ..will not use multithreading.
     Fraction of slow calculations: 0.000000
    ..connectivity..
    ..matrix multiplication (system BLAS)..
    ..normalization..
    ..done.
 ....clustering..
 ....detecting modules..
 ....calculating module eigengenes..
 ....checking kME in modules..
     ..removing 163 genes from module 1 because their KME is too low.
     ..removing 126 genes from module 2 because their KME is too low.
     ..removing 59 genes from module 3 because their KME is too low.
     ..removing 18 genes from module 4 because their KME is too low.
     ..removing 28 genes from module 5 because their KME is too low.
     ..removing 24 genes from module 6 because their KME is too low.
     ..removing 9 genes from module 7 because their KME is too low.
 ..merging modules that are too close..
     mergeCloseModules: Merging modules whose distance is less than 0.1
       Calculating new MEs...
 softConnectivity: FYI: connecitivty of genes with less than 20 valid samples will be returned as NA.
 ..calculating connectivities.. 
 Flagging genes and samples with too many missing values...
  ..step 1
 Calculating module eigengenes block-wise from all genes
   Flagging genes and samples with too many missing values...
    ..step 1
 ..Working on block 1 .
    TOM calculation: adjacency..
    ..will not use multithreading.
     Fraction of slow calculations: 0.000000
    ..connectivity..
    ..matrix multiplication (system BLAS)..
    ..normalization..
    ..done.
 ....clustering..
 ....detecting modules..
 ....calculating module eigengenes..
 ....checking kME in modules..
     ..removing 139 genes from module 1 because their KME is too low.
     ..removing 82 genes from module 2 because their KME is too low.
     ..removing 95 genes from module 3 because their KME is too low.
     ..removing 37 genes from module 4 because their KME is too low.
     ..removing 35 genes from module 5 because their KME is too low.
     ..removing 36 genes from module 6 because their KME is too low.
     ..removing 27 genes from module 7 because their KME is too low.
 ..merging modules that are too close..
     mergeCloseModules: Merging modules whose distance is less than 0.1
       Calculating new MEs...
 softConnectivity: FYI: connecitivty of genes with less than 10 valid samples will be returned as NA.
 ..calculating connectivities.. 
 Flagging genes and samples with too many missing values...
  ..step 1
 Calculating module eigengenes block-wise from all genes
   Flagging genes and samples with too many missing values...
    ..step 1
 ..Working on block 1 .
    TOM calculation: adjacency..
    ..will not use multithreading.
     Fraction of slow calculations: 0.000000
    ..connectivity..
    ..matrix multiplication (system BLAS)..
    ..normalization..
    ..done.
 ....clustering..
 ....detecting modules..
 ....calculating module eigengenes..
 ....checking kME in modules..
     ..removing 164 genes from module 1 because their KME is too low.
     ..removing 138 genes from module 2 because their KME is too low.
     ..removing 86 genes from module 3 because their KME is too low.
     ..removing 33 genes from module 4 because their KME is too low.
     ..removing 35 genes from module 5 because their KME is too low.
     ..removing 34 genes from module 6 because their KME is too low.
     ..removing 19 genes from module 7 because their KME is too low.
 ..merging modules that are too close..
     mergeCloseModules: Merging modules whose distance is less than 0.1
       Calculating new MEs...
 softConnectivity: FYI: connecitivty of genes with less than 11 valid samples will be returned as NA.
 ..calculating connectivities.. 
[ FAIL 0 | WARN 0 | SKIP 0 | PASS 2 ]
> 
> proc.time()
   user  system elapsed 
111.534   2.744 114.743 

Example timings

multiWGCNA.Rcheck/multiWGCNA-Ex.timings

nameusersystemelapsed
GetDatExpr16.597 1.42919.042
PreservationPermutationTest000
PreservationScoreDistribution0.0620.0040.065
bidirectionalBestMatches3.1350.2803.730
cleanDatExpr2.1200.8353.218
coexpressionLineGraph3.6090.4164.282
computeOverlapsFromWGCNA2.8760.3253.458
constructNetworks39.536 1.49641.296
diffCoexpression2.0640.2072.573
diffModuleExpression5.5300.5926.460
drawMultiWGCNAnetwork8.3630.4849.211
iterate 8.371 2.44411.045
makeTraitTable0.0030.0000.003
moduleComparisonPlot16.834 1.32718.460
moduleExpressionPlot3.4950.2073.999
moduleToModuleHeatmap3.0700.2443.641
name2.5930.2673.127
overlapComparisons8.1930.8549.310
preservationComparisonPlot67.125 3.56571.023
preservationComparisons65.045 3.36368.712
runDME 9.870 0.97911.323
topNGenes2.7780.2163.290