Back to Multiple platform build/check report for BioC 3.15
ABCDEFGHIJKL[M]NOPQRSTUVWXYZ

This page was generated on 2022-01-15 11:08:07 -0500 (Sat, 15 Jan 2022).

HostnameOSArch (*)R versionInstalled pkgs
nebbiolo1Linux (Ubuntu 20.04.4 LTS)x86_64R Under development (unstable) (2022-01-05 r81451) -- "Unsuffered Consequences" 4160
riesling1Windows Server 2019 Standardx64R Under development (unstable) (2021-11-21 r81221) -- "Unsuffered Consequences" 4055
palomino3Windows Server 2022 Datacenterx64R Under development (unstable) (2021-12-21 r81400 ucrt) -- "Unsuffered Consequences" 3997
merida1macOS 10.14.6 Mojavex86_64R Under development (unstable) (2022-01-05 r81451) -- "Unsuffered Consequences" 4114
Click on any hostname to see more info about the system (e.g. compilers)      (*) as reported by 'uname -p', except on Windows and Mac OS X

BUILD BIN results for multiMiR on riesling1


To the developers/maintainers of the multiMiR package:
- Please allow up to 24 hours (and sometimes 48 hours) for your latest push to git@git.bioconductor.org:packages/multiMiR.git to
reflect on this report. See How and When does the builder pull? When will my changes propagate? here for more information.
- Make sure to use the following settings in order to reproduce any error or warning you see on this page.

raw results

Package 1240/2074HostnameOS / ArchINSTALLBUILDCHECKBUILD BIN
multiMiR 1.17.0  (landing page)
Matt Mulvahill
Snapshot Date: 2022-01-14 13:55:18 -0500 (Fri, 14 Jan 2022)
git_url: https://git.bioconductor.org/packages/multiMiR
git_branch: master
git_last_commit: 74e644d
git_last_commit_date: 2021-10-26 12:38:12 -0500 (Tue, 26 Oct 2021)
nebbiolo1Linux (Ubuntu 20.04.4 LTS) / x86_64  OK    OK    OK  UNNEEDED, same version is already published
riesling1Windows Server 2019 Standard / x64  OK    OK    OK    OK  
palomino3Windows Server 2022 Datacenter / x64  OK    OK    OK    OK  NO, package depends on 'BiocGenerics' which is not available
merida1macOS 10.14.6 Mojave / x86_64  OK    OK    OK    OK  UNNEEDED, same version is already published

Summary

Package: multiMiR
Version: 1.17.0
Command: rm -rf multiMiR.buildbin-libdir && mkdir multiMiR.buildbin-libdir && D:\biocbuild\bbs-3.15-bioc\R\bin\R.exe CMD INSTALL --build --library=multiMiR.buildbin-libdir multiMiR_1.17.0.tar.gz
StartedAt: 2022-01-14 21:10:24 -0500 (Fri, 14 Jan 2022)
EndedAt: 2022-01-14 21:11:49 -0500 (Fri, 14 Jan 2022)
EllapsedTime: 84.6 seconds
RetCode: 0
Status:   OK  
PackageFile: multiMiR_1.17.0.zip
PackageFileSize: 675.7 KiB

Command output

##############################################################################
##############################################################################
###
### Running command:
###
###   rm -rf multiMiR.buildbin-libdir && mkdir multiMiR.buildbin-libdir && D:\biocbuild\bbs-3.15-bioc\R\bin\R.exe CMD INSTALL --build --library=multiMiR.buildbin-libdir multiMiR_1.17.0.tar.gz
###
##############################################################################
##############################################################################


* installing *source* package 'multiMiR' ...
** using staged installation
** R
** inst
** byte-compile and prepare package for lazy loading
** help
*** installing help indices
  converting help for package 'multiMiR'
    finding HTML links ... done
    add.multimir.links                      html  
    all_tables                              html  
    as.mmquery                              html  
    as_mmsql_components                     html  
    build_mmsql                             html  
    default_cutoff                          html  
    deprecate_arg                           html  
    extract_mmquery                         html  
    get.multimir.cutoffs                    html  
    get_multimir                            html  
    list_multimir                           html  
    mmquery_bioc-class                      html  
    multiMiR                                html  
REDIRECT:topic	 Previous alias or file overwritten by alias: D:/biocbuild/bbs-3.15-bioc/meat/multiMiR.buildbin-libdir/00LOCK-multiMiR/00new/multiMiR/help/multimir.html
    multimir.summary                        html  
    multimir_dbInfo                         html  
    multimir_switchDBVersion                html  
    null_to_df                              html  
    pad                                     html  
    parens_quote                            html  
    parens_wrap                             html  
    parse_orgs                              html  
    parse_response                          html  
    query_multimir                          html  
    quote_wrap                              html  
    remove_empty_strings                    html  
    remove_table                            html  
    search_multimir                         html  
    split_by                                html  
    sql_org                                 html  
    sql_validated                           html  
    submit_request                          html  
** building package indices
** installing vignettes
** testing if installed package can be loaded from temporary location
** testing if installed package can be loaded from final location
** testing if installed package keeps a record of temporary installation path
* MD5 sums
packaged installation of 'multiMiR' as multiMiR_1.17.0.zip
* DONE (multiMiR)