Back to Multiple platform build/check report for BioC 3.15
ABCDEFGHIJKL[M]NOPQRSTUVWXYZ

This page was generated on 2022-01-21 11:08:05 -0500 (Fri, 21 Jan 2022).

HostnameOSArch (*)R versionInstalled pkgs
nebbiolo1Linux (Ubuntu 20.04.4 LTS)x86_64R Under development (unstable) (2022-01-05 r81451) -- "Unsuffered Consequences" 4163
riesling1Windows Server 2019 Standardx64R Under development (unstable) (2021-11-21 r81221) -- "Unsuffered Consequences" 4058
palomino3Windows Server 2022 Datacenterx64R Under development (unstable) (2021-12-21 r81400 ucrt) -- "Unsuffered Consequences" 4000
merida1macOS 10.14.6 Mojavex86_64R Under development (unstable) (2022-01-05 r81451) -- "Unsuffered Consequences" 4117
Click on any hostname to see more info about the system (e.g. compilers)      (*) as reported by 'uname -p', except on Windows and Mac OS X

INSTALL results for multiGSEA on riesling1


To the developers/maintainers of the multiGSEA package:
- Please allow up to 24 hours (and sometimes 48 hours) for your latest push to git@git.bioconductor.org:packages/multiGSEA.git to
reflect on this report. See How and When does the builder pull? When will my changes propagate? here for more information.
- Make sure to use the following settings in order to reproduce any error or warning you see on this page.

raw results

Package 1237/2075HostnameOS / ArchINSTALLBUILDCHECKBUILD BIN
multiGSEA 1.5.0  (landing page)
Sebastian Canzler
Snapshot Date: 2022-01-20 13:55:17 -0500 (Thu, 20 Jan 2022)
git_url: https://git.bioconductor.org/packages/multiGSEA
git_branch: master
git_last_commit: 0ad0e32
git_last_commit_date: 2021-10-26 13:00:40 -0500 (Tue, 26 Oct 2021)
nebbiolo1Linux (Ubuntu 20.04.4 LTS) / x86_64  OK    OK    OK  UNNEEDED, same version is already published
riesling1Windows Server 2019 Standard / x64  OK    OK    OK    OK  
palomino3Windows Server 2022 Datacenter / x64  OK    OK    OK    OK  NO, package depends on 'graphite' which is not available
merida1macOS 10.14.6 Mojave / x86_64  OK    OK    OK    OK  NO, package depends on 'fgsea' which is not available

Summary

Package: multiGSEA
Version: 1.5.0
Command: D:\biocbuild\bbs-3.15-bioc\R\bin\R.exe CMD INSTALL multiGSEA
StartedAt: 2022-01-20 15:54:14 -0500 (Thu, 20 Jan 2022)
EndedAt: 2022-01-20 15:55:14 -0500 (Thu, 20 Jan 2022)
EllapsedTime: 60.2 seconds
RetCode: 0
Status:   OK  

Command output

##############################################################################
##############################################################################
###
### Running command:
###
###   D:\biocbuild\bbs-3.15-bioc\R\bin\R.exe CMD INSTALL multiGSEA
###
##############################################################################
##############################################################################


* installing to library 'D:/biocbuild/bbs-3.15-bioc/R/library'
* installing *source* package 'multiGSEA' ...
** using staged installation
** R
** data
** inst
** byte-compile and prepare package for lazy loading
** help
*** installing help indices
  converting help for package 'multiGSEA'
    finding HTML links ... done
    archiveDir                              html  
    archivePath                             html  
    combinePvalues                          html  
    extractPvalues                          html  
    getFeatures                             html  
    getGeneMapping                          html  
    getIDMappingDatabase                    html  
    getMappedFeatures                       html  
    getMetaboliteMapping                    html  
    getMultiOmicsFeatures                   html  
    getOrganisms                            html  
    initOmicsDataStructure                  html  
    loadLocal                               html  
    mapIDType                               html  
    metabolome                              html  
    multiGSEA                               html  
    proteome                                html  
    rankFeatures                            html  
    rename_duplicates                       html  
    transcriptome                           html  
** building package indices
** installing vignettes
** testing if installed package can be loaded from temporary location
** testing if installed package can be loaded from final location
** testing if installed package keeps a record of temporary installation path
* DONE (multiGSEA)
Making 'packages.html' ... done