![]() | Name | Last modified | Size | Description |
---|---|---|---|---|
![]() | Parent Directory | - | ||
![]() | buildsrc-out.txt | 01-Oct-2023 00:40 | 852 | |
![]() | buildsrc-summary.dcf | 01-Oct-2023 00:40 | 420 | |
![]() | checksrc-out.txt | 01-Oct-2023 00:40 | 3.3K | |
![]() | checksrc-summary.dcf | 01-Oct-2023 00:40 | 414 | |
![]() | install-out.txt | 01-Oct-2023 00:40 | 949 | |
![]() | install-summary.dcf | 01-Oct-2023 00:40 | 258 | |