Name | Last modified | Size | Description | |
---|---|---|---|---|
Parent Directory | - | |||
buildbin-out.txt | 18-May-2024 00:37 | 1.0K | ||
buildbin-summary.dcf | 18-May-2024 00:37 | 493 | ||
buildsrc-out.txt | 18-May-2024 00:37 | 883 | ||
buildsrc-summary.dcf | 18-May-2024 00:37 | 438 | ||
checksrc-out.txt | 18-May-2024 00:37 | 3.4K | ||
checksrc-summary.dcf | 18-May-2024 00:37 | 432 | ||
install-out.txt | 18-May-2024 00:37 | 962 | ||
install-summary.dcf | 18-May-2024 00:37 | 260 | ||