Back to Multiple platform build/check report for BioC 3.14
ABCDEFGHIJKL[M]NOPQRSTUVWXYZ

This page was generated on 2021-10-22 12:04:34 -0400 (Fri, 22 Oct 2021).

BUILD BIN results for msgbsR on riesling1

To the developers/maintainers of the msgbsR package:
- Please allow up to 24 hours (and sometimes 48 hours) for your latest push to git@git.bioconductor.org:packages/msgbsR.git to
reflect on this report. See How and When does the builder pull? When will my changes propagate? here for more information.
- Make sure to use the following settings in order to reproduce any error or warning you see on this page.

raw results

Package 1212/2075HostnameOS / ArchINSTALLBUILDCHECKBUILD BIN
msgbsR 1.17.0  (landing page)
Benjamin Mayne
Snapshot Date: 2021-10-21 14:50:08 -0400 (Thu, 21 Oct 2021)
git_url: https://git.bioconductor.org/packages/msgbsR
git_branch: master
git_last_commit: 612f713
git_last_commit_date: 2021-05-19 12:27:53 -0400 (Wed, 19 May 2021)
nebbiolo2Linux (Ubuntu 20.04.2 LTS) / x86_64  OK    OK    WARNINGS  UNNEEDED, same version is already published
riesling1Windows Server 2019 Standard / x64  OK    OK    WARNINGS    OK  UNNEEDED, same version is already published
merida1macOS 10.14.6 Mojave / x86_64  OK    OK    WARNINGS    NA  

Summary

Package: msgbsR
Version: 1.17.0
Command: rm -rf msgbsR.buildbin-libdir && mkdir msgbsR.buildbin-libdir && D:\biocbuild\bbs-3.14-bioc\R\bin\R.exe CMD INSTALL --merge-multiarch --build --library=msgbsR.buildbin-libdir msgbsR_1.17.0.tar.gz
StartedAt: 2021-10-22 06:32:20 -0400 (Fri, 22 Oct 2021)
EndedAt: 2021-10-22 06:36:47 -0400 (Fri, 22 Oct 2021)
EllapsedTime: 266.5 seconds
RetCode: 0
Status:   OK  
PackageFile: msgbsR_1.17.0.zip
PackageFileSize: 15.57 MiB

Command output

##############################################################################
##############################################################################
###
### Running command:
###
###   rm -rf msgbsR.buildbin-libdir && mkdir msgbsR.buildbin-libdir && D:\biocbuild\bbs-3.14-bioc\R\bin\R.exe CMD INSTALL --merge-multiarch --build --library=msgbsR.buildbin-libdir msgbsR_1.17.0.tar.gz
###
##############################################################################
##############################################################################



install for i386

* installing *source* package 'msgbsR' ...
** using staged installation
** R
** data
** inst
** byte-compile and prepare package for lazy loading
No methods found in package 'BiocGenerics' for request: 'clusterApply' when loading 'easyRNASeq'
** help
*** installing help indices
  converting help for package 'msgbsR'
    finding HTML links ... done
    checkCuts                               html  
    cuts                                    html  
    diffMeth                                html  
    msgbsR                                  html  
    plotCircos                              html  
    plotCounts                              html  
    ratdata                                 html  
    ratdata2                                html  
    rawCounts                               html  
** building package indices
** installing vignettes
** testing if installed package can be loaded from temporary location
No methods found in package 'BiocGenerics' for request: 'clusterApply' when loading 'easyRNASeq'
** testing if installed package can be loaded from final location
No methods found in package 'BiocGenerics' for request: 'clusterApply' when loading 'easyRNASeq'
** testing if installed package keeps a record of temporary installation path

install for x64

* installing *source* package 'msgbsR' ...
** testing if installed package can be loaded
No methods found in package 'BiocGenerics' for request: 'clusterApply' when loading 'easyRNASeq'
* MD5 sums
packaged installation of 'msgbsR' as msgbsR_1.17.0.zip
* DONE (msgbsR)