Back to Multiple platform build/check report for BioC 3.14
ABCDEFGHIJKL[M]NOPQRSTUVWXYZ

This page was generated on 2021-10-23 14:06:35 -0400 (Sat, 23 Oct 2021).

INSTALL results for msImpute on riesling1

To the developers/maintainers of the msImpute package:
- Please allow up to 24 hours (and sometimes 48 hours) for your latest push to git@git.bioconductor.org:packages/msImpute.git to
reflect on this report. See How and When does the builder pull? When will my changes propagate? here for more information.
- Make sure to use the following settings in order to reproduce any error or warning you see on this page.

raw results

Package 1219/2083HostnameOS / ArchINSTALLBUILDCHECKBUILD BIN
msImpute 1.3.3  (landing page)
Soroor Hediyeh-zadeh
Snapshot Date: 2021-10-22 14:50:11 -0400 (Fri, 22 Oct 2021)
git_url: https://git.bioconductor.org/packages/msImpute
git_branch: master
git_last_commit: 82d28b7
git_last_commit_date: 2021-10-12 02:43:45 -0400 (Tue, 12 Oct 2021)
nebbiolo2Linux (Ubuntu 20.04.2 LTS) / x86_64  OK    OK    OK  UNNEEDED, same version is already published
riesling1Windows Server 2019 Standard / x64  OK    OK    OK    OK  UNNEEDED, same version is already published
merida1macOS 10.14.6 Mojave / x86_64  OK    OK    OK    OK  UNNEEDED, same version is already published

Summary

Package: msImpute
Version: 1.3.3
Command: C:\cygwin\bin\curl.exe -O http://155.52.207.166/BBS/3.14/bioc/src/contrib/msImpute_1.3.3.tar.gz && rm -rf msImpute.buildbin-libdir && mkdir msImpute.buildbin-libdir && D:\biocbuild\bbs-3.14-bioc\R\bin\R.exe CMD INSTALL --merge-multiarch --build --library=msImpute.buildbin-libdir msImpute_1.3.3.tar.gz && D:\biocbuild\bbs-3.14-bioc\R\bin\R.exe CMD INSTALL msImpute_1.3.3.zip && rm msImpute_1.3.3.tar.gz msImpute_1.3.3.zip
StartedAt: 2021-10-22 18:07:40 -0400 (Fri, 22 Oct 2021)
EndedAt: 2021-10-22 18:11:04 -0400 (Fri, 22 Oct 2021)
EllapsedTime: 204.7 seconds
RetCode: 0
Status:   OK  

Command output

##############################################################################
##############################################################################
###
### Running command:
###
###   C:\cygwin\bin\curl.exe -O http://155.52.207.166/BBS/3.14/bioc/src/contrib/msImpute_1.3.3.tar.gz && rm -rf msImpute.buildbin-libdir && mkdir msImpute.buildbin-libdir && D:\biocbuild\bbs-3.14-bioc\R\bin\R.exe CMD INSTALL --merge-multiarch --build --library=msImpute.buildbin-libdir msImpute_1.3.3.tar.gz && D:\biocbuild\bbs-3.14-bioc\R\bin\R.exe CMD INSTALL msImpute_1.3.3.zip && rm msImpute_1.3.3.tar.gz msImpute_1.3.3.zip
###
##############################################################################
##############################################################################


  % Total    % Received % Xferd  Average Speed   Time    Time     Time  Current
                                 Dload  Upload   Total   Spent    Left  Speed

  0     0    0     0    0     0      0      0 --:--:-- --:--:-- --:--:--     0
 32 1240k   32  407k    0     0  1269k      0 --:--:-- --:--:-- --:--:-- 1269k
100 1240k  100 1240k    0     0  2839k      0 --:--:-- --:--:-- --:--:-- 2833k

install for i386

* installing *source* package 'msImpute' ...
** using staged installation
** R
** data
*** moving datasets to lazyload DB
** inst
** byte-compile and prepare package for lazy loading
** help
*** installing help indices
  converting help for package 'msImpute'
    finding HTML links ... done
    CPD                                     html  
    KNC                                     html  
    KNN                                     html  
    computeStructuralMetrics                html  
    evidenceToMatrix                        html  
    findVariableFeatures                    html  
    msImpute                                html  
    mspip                                   html  
    plotCV2                                 html  
    pxd007959                               html  
    pxd010943                               html  
    pxd014777                               html  
    scaleData                               html  
    selectFeatures                          html  
** building package indices
** installing vignettes
** testing if installed package can be loaded from temporary location
** testing if installed package can be loaded from final location
** testing if installed package keeps a record of temporary installation path

install for x64

* installing *source* package 'msImpute' ...
** testing if installed package can be loaded
* MD5 sums
packaged installation of 'msImpute' as msImpute_1.3.3.zip
* DONE (msImpute)
* installing to library 'D:/biocbuild/bbs-3.14-bioc/R/library'
package 'msImpute' successfully unpacked and MD5 sums checked