Index of /checkResults/devel/bioc-LATEST/motifmatchr/raw-results/palomino3

[ICO]NameLast modifiedSizeDescription

[DIR]Parent Directory  -  
[TXT]buildbin-out.txt23-Feb-2024 02:48 13K 
[   ]buildbin-summary.dcf23-Feb-2024 02:48 539  
[TXT]buildsrc-out.txt23-Feb-2024 02:48 1.1K 
[   ]buildsrc-summary.dcf23-Feb-2024 02:48 469  
[TXT]checksrc-out.txt23-Feb-2024 02:48 4.5K 
[   ]checksrc-summary.dcf23-Feb-2024 02:48 463  
[TXT]install-out.txt23-Feb-2024 02:48 13K 
[   ]install-summary.dcf23-Feb-2024 02:48 276