Back to Multiple platform build/check report for BioC 3.15
ABCDEFGHIJKL[M]NOPQRSTUVWXYZ

This page was generated on 2021-11-27 14:05:12 -0500 (Sat, 27 Nov 2021).

BUILD results for motifbreakR on riesling1

To the developers/maintainers of the motifbreakR package:
- Please allow up to 24 hours (and sometimes 48 hours) for your latest push to git@git.bioconductor.org:packages/motifbreakR.git to
reflect on this report. See How and When does the builder pull? When will my changes propagate? here for more information.
- Make sure to use the following settings in order to reproduce any error or warning you see on this page.

raw results

Package 1192/2068HostnameOS / ArchINSTALLBUILDCHECKBUILD BIN
motifbreakR 2.9.1  (landing page)
Simon Gert Coetzee
Snapshot Date: 2021-11-26 14:50:14 -0500 (Fri, 26 Nov 2021)
git_url: https://git.bioconductor.org/packages/motifbreakR
git_branch: master
git_last_commit: 9958f30
git_last_commit_date: 2021-11-17 09:15:02 -0500 (Wed, 17 Nov 2021)
nebbiolo1Linux (Ubuntu 20.04.3 LTS) / x86_64  OK    OK    WARNINGS  UNNEEDED, same version is already published
riesling1Windows Server 2019 Standard / x64  OK    OK    WARNINGS    OK  
merida1macOS 10.14.6 Mojave / x86_64  OK    OK    WARNINGS    OK  UNNEEDED, same version is already published

Summary

Package: motifbreakR
Version: 2.9.1
Command: chmod a+r motifbreakR -R && D:\biocbuild\bbs-3.15-bioc\R\bin\R.exe CMD build --keep-empty-dirs --no-resave-data motifbreakR
StartedAt: 2021-11-26 22:24:23 -0500 (Fri, 26 Nov 2021)
EndedAt: 2021-11-26 22:29:08 -0500 (Fri, 26 Nov 2021)
EllapsedTime: 284.8 seconds
RetCode: 0
Status:   OK  
PackageFile: motifbreakR_2.9.1.tar.gz
PackageFileSize: 2.166 MiB

Command output

##############################################################################
##############################################################################
###
### Running command:
###
###   chmod a+r motifbreakR -R && D:\biocbuild\bbs-3.15-bioc\R\bin\R.exe CMD build --keep-empty-dirs --no-resave-data motifbreakR
###
##############################################################################
##############################################################################


* checking for file 'motifbreakR/DESCRIPTION' ... OK
* preparing 'motifbreakR':
* checking DESCRIPTION meta-information ... OK
* installing the package to build vignettes
* creating vignettes ... OK
* checking for LF line-endings in source and make files and shell scripts
* checking for empty or unneeded directories
* building 'motifbreakR_2.9.1.tar.gz'