Back to Multiple platform build/check report for BioC 3.15
ABCDEFGHIJKL[M]NOPQRSTUVWXYZ

This page was generated on 2021-11-27 14:05:12 -0500 (Sat, 27 Nov 2021).

BUILD BIN results for motifbreakR on riesling1

To the developers/maintainers of the motifbreakR package:
- Please allow up to 24 hours (and sometimes 48 hours) for your latest push to git@git.bioconductor.org:packages/motifbreakR.git to
reflect on this report. See How and When does the builder pull? When will my changes propagate? here for more information.
- Make sure to use the following settings in order to reproduce any error or warning you see on this page.

raw results

Package 1192/2068HostnameOS / ArchINSTALLBUILDCHECKBUILD BIN
motifbreakR 2.9.1  (landing page)
Simon Gert Coetzee
Snapshot Date: 2021-11-26 14:50:14 -0500 (Fri, 26 Nov 2021)
git_url: https://git.bioconductor.org/packages/motifbreakR
git_branch: master
git_last_commit: 9958f30
git_last_commit_date: 2021-11-17 09:15:02 -0500 (Wed, 17 Nov 2021)
nebbiolo1Linux (Ubuntu 20.04.3 LTS) / x86_64  OK    OK    WARNINGS  UNNEEDED, same version is already published
riesling1Windows Server 2019 Standard / x64  OK    OK    WARNINGS    OK  
merida1macOS 10.14.6 Mojave / x86_64  OK    OK    WARNINGS    OK  UNNEEDED, same version is already published

Summary

Package: motifbreakR
Version: 2.9.1
Command: rm -rf motifbreakR.buildbin-libdir && mkdir motifbreakR.buildbin-libdir && D:\biocbuild\bbs-3.15-bioc\R\bin\R.exe CMD INSTALL --merge-multiarch --build --library=motifbreakR.buildbin-libdir motifbreakR_2.9.1.tar.gz
StartedAt: 2021-11-27 07:13:53 -0500 (Sat, 27 Nov 2021)
EndedAt: 2021-11-27 07:18:37 -0500 (Sat, 27 Nov 2021)
EllapsedTime: 284.3 seconds
RetCode: 0
Status:   OK  
PackageFile: motifbreakR_2.9.1.zip
PackageFileSize: 2.613 MiB

Command output

##############################################################################
##############################################################################
###
### Running command:
###
###   rm -rf motifbreakR.buildbin-libdir && mkdir motifbreakR.buildbin-libdir && D:\biocbuild\bbs-3.15-bioc\R\bin\R.exe CMD INSTALL --merge-multiarch --build --library=motifbreakR.buildbin-libdir motifbreakR_2.9.1.tar.gz
###
##############################################################################
##############################################################################


only one architecture so ignoring '--merge-multiarch'
* installing *source* package 'motifbreakR' ...
** using staged installation
** R
** data
*** moving datasets to lazyload DB
** inst
** byte-compile and prepare package for lazy loading
See system.file("LICENSE", package="MotifDb") for use restrictions.
Warning: replacing previous import 'IRanges::windows' by 'grDevices::windows' when loading 'motifbreakR'
Warning: replacing previous import 'S4Vectors::as.data.frame' by 'motifStack::as.data.frame' when loading 'motifbreakR'
** help
*** installing help indices
  converting help for package 'motifbreakR'
    finding HTML links ... done
    calculatePvalue                         html  
    finding level-2 HTML links ... done

    encodemotif                             html  
    example.results                         html  
    factorbook                              html  
    hocomoco                                html  
    homer                                   html  
    motifbreakR                             html  
    motifbreakR_motif                       html  
    plotMB                                  html  
    scoreAllWindows                         html  
    snps.from.file                          html  
    snps.from.rsid                          html  
** building package indices
** installing vignettes
** testing if installed package can be loaded from temporary location
See system.file("LICENSE", package="MotifDb") for use restrictions.
Warning: replacing previous import 'IRanges::windows' by 'grDevices::windows' when loading 'motifbreakR'
Warning: replacing previous import 'S4Vectors::as.data.frame' by 'motifStack::as.data.frame' when loading 'motifbreakR'
** testing if installed package can be loaded from final location
See system.file("LICENSE", package="MotifDb") for use restrictions.
Warning: replacing previous import 'IRanges::windows' by 'grDevices::windows' when loading 'motifbreakR'
Warning: replacing previous import 'S4Vectors::as.data.frame' by 'motifStack::as.data.frame' when loading 'motifbreakR'
** testing if installed package keeps a record of temporary installation path
* MD5 sums
packaged installation of 'motifbreakR' as motifbreakR_2.9.1.zip
* DONE (motifbreakR)