Index of /checkResults/devel/bioc-LATEST/motifStack/raw-results

[ICO]NameLast modifiedSizeDescription

[DIR]Parent Directory  -  
[   ]info.dcf10-Dec-2023 02:25 1.1K 
[DIR]kunpeng2/10-Dec-2023 02:25 -  
[DIR]merida1/10-Dec-2023 02:23 -  
[DIR]nebbiolo1/10-Dec-2023 02:21 -  
[DIR]palomino3/10-Dec-2023 02:22 -