Name | Last modified | Size | Description | |
---|---|---|---|---|
Parent Directory | - | |||
install-summary.dcf | 28-Jun-2024 00:38 | 269 | ||
install-out.txt | 28-Jun-2024 00:38 | 2.2K | ||
checksrc-summary.dcf | 28-Jun-2024 00:38 | 444 | ||
checksrc-out.txt | 28-Jun-2024 00:38 | 5.4K | ||
buildsrc-summary.dcf | 28-Jun-2024 00:38 | 427 | ||
buildsrc-out.txt | 28-Jun-2024 00:38 | 846 | ||
buildbin-summary.dcf | 28-Jun-2024 00:38 | 529 | ||
buildbin-out.txt | 28-Jun-2024 00:38 | 4.2K | ||