Name | Last modified | Size | Description | |
---|---|---|---|---|
Parent Directory | - | |||
buildsrc-out.txt | 16-May-2024 02:46 | 847 | ||
buildsrc-summary.dcf | 16-May-2024 02:46 | 428 | ||
checksrc-out.txt | 16-May-2024 02:46 | 5.4K | ||
checksrc-summary.dcf | 16-May-2024 02:46 | 451 | ||
install-out.txt | 16-May-2024 02:46 | 1.9K | ||
install-summary.dcf | 16-May-2024 02:46 | 270 | ||