Name | Last modified | Size | Description | |
---|---|---|---|---|
Parent Directory | - | |||
install-out.txt | 28-Jun-2024 00:39 | 2.1K | ||
install-summary.dcf | 28-Jun-2024 00:39 | 268 | ||
buildsrc-out.txt | 28-Jun-2024 00:39 | 846 | ||
buildsrc-summary.dcf | 28-Jun-2024 00:39 | 427 | ||
checksrc-out.txt | 28-Jun-2024 00:39 | 5.4K | ||
checksrc-summary.dcf | 28-Jun-2024 00:39 | 443 | ||
buildbin-out.txt | 28-Jun-2024 00:39 | 4.2K | ||
buildbin-summary.dcf | 28-Jun-2024 00:39 | 529 | ||