Name | Last modified | Size | Description | |
---|---|---|---|---|
Parent Directory | - | |||
buildbin-out.txt | 12-Jun-2024 04:43 | 4.2K | ||
buildbin-summary.dcf | 12-Jun-2024 04:43 | 530 | ||
buildsrc-out.txt | 12-Jun-2024 04:43 | 846 | ||
buildsrc-summary.dcf | 12-Jun-2024 04:43 | 427 | ||
checksrc-out.txt | 12-Jun-2024 04:43 | 5.4K | ||
checksrc-summary.dcf | 12-Jun-2024 04:43 | 444 | ||
install-out.txt | 12-Jun-2024 04:43 | 2.1K | ||
install-summary.dcf | 12-Jun-2024 04:43 | 269 | ||