Index of /checkResults/devel/bioc-LATEST/monaLisa/raw-results
Name
Last modified
Size
Description
Parent Directory
-
palomino4/
23-Sep-2023 00:38
-
nebbiolo2/
23-Sep-2023 00:36
-
lconway/
23-Sep-2023 00:39
-
kunpeng2/
23-Sep-2023 00:40
-
info.dcf
23-Sep-2023 00:40
270