Index of /checkResults/devel/bioc-LATEST/mnem/raw-results/nebbiolo1

[ICO]NameLast modifiedSizeDescription

[DIR]Parent Directory  -  
[TXT]buildsrc-out.txt29-Feb-2024 01:36 824  
[   ]buildsrc-summary.dcf29-Feb-2024 01:36 408  
[TXT]checksrc-out.txt29-Feb-2024 01:36 3.9K 
[   ]checksrc-summary.dcf29-Feb-2024 01:36 402  
[TXT]install-out.txt29-Feb-2024 01:36 141K 
[   ]install-summary.dcf29-Feb-2024 01:36 253