Index of /checkResults/devel/bioc-LATEST/missRows/raw-results
Name
Last modified
Size
Description
Parent Directory
-
info.dcf
30-Sep-2023 01:06
274
kunpeng2/
30-Sep-2023 01:06
-
lconway/
30-Sep-2023 01:05
-
nebbiolo2/
30-Sep-2023 01:02
-
palomino4/
30-Sep-2023 01:03
-